BEGIN:VCALENDAR
VERSION:2.0
PRODID:-//GAWDA - ECPv6.15.20//NONSGML v1.0//EN
CALSCALE:GREGORIAN
METHOD:PUBLISH
X-WR-CALNAME:GAWDA
X-ORIGINAL-URL:https://www.gawda.org
X-WR-CALDESC:Events for GAWDA
REFRESH-INTERVAL;VALUE=DURATION:PT1H
X-Robots-Tag:noindex
X-PUBLISHED-TTL:PT1H
BEGIN:VTIMEZONE
TZID:America/New_York
BEGIN:DAYLIGHT
TZOFFSETFROM:-0500
TZOFFSETTO:-0400
TZNAME:EDT
DTSTART:20230312T070000
END:DAYLIGHT
BEGIN:STANDARD
TZOFFSETFROM:-0400
TZOFFSETTO:-0500
TZNAME:EST
DTSTART:20231105T060000
END:STANDARD
BEGIN:DAYLIGHT
TZOFFSETFROM:-0500
TZOFFSETTO:-0400
TZNAME:EDT
DTSTART:20240310T070000
END:DAYLIGHT
BEGIN:STANDARD
TZOFFSETFROM:-0400
TZOFFSETTO:-0500
TZNAME:EST
DTSTART:20241103T060000
END:STANDARD
BEGIN:DAYLIGHT
TZOFFSETFROM:-0500
TZOFFSETTO:-0400
TZNAME:EDT
DTSTART:20250309T070000
END:DAYLIGHT
BEGIN:STANDARD
TZOFFSETFROM:-0400
TZOFFSETTO:-0500
TZNAME:EST
DTSTART:20251102T060000
END:STANDARD
END:VTIMEZONE
BEGIN:VEVENT
DTSTART;VALUE=DATE:20241102
DTEND;VALUE=DATE:20241106
DTSTAMP:20260421T142001
CREATED:20231106T150032Z
LAST-MODIFIED:20231106T150032Z
UID:10618-1730505600-1730851199@www.gawda.org
SUMMARY:IOMA Annual Meeting - Buenos Aires\, Argentina
DESCRIPTION:
URL:https://www.gawda.org/event/ioma-annual-meeting-buenos-aires-argentina/
CATEGORIES:IOMA
ATTACH;FMTTYPE=image/jpeg:https://www.gawda.org/wp-content/uploads/2017/11/5.jpg
END:VEVENT
BEGIN:VEVENT
DTSTART;VALUE=DATE:20241110
DTEND;VALUE=DATE:20241116
DTSTAMP:20260421T142001
CREATED:20200804T183230Z
LAST-MODIFIED:20200804T183230Z
UID:7859-1731196800-1731715199@www.gawda.org
SUMMARY:IWDC Owners Meeting - Rancho Mirage\, CA
DESCRIPTION:
URL:https://www.gawda.org/event/iwdc-owners-meeting-rancho-mirage-ca-2/
CATEGORIES:IWDC
ATTACH;FMTTYPE=image/png:https://www.gawda.org/wp-content/uploads/2017/08/iwdc-logo.png
END:VEVENT
BEGIN:VEVENT
DTSTART;TZID=America/New_York:20241113T130000
DTEND;TZID=America/New_York:20241113T140000
DTSTAMP:20260421T142001
CREATED:20240909T182633Z
LAST-MODIFIED:20240909T182633Z
UID:11470-1731502800-1731506400@www.gawda.org
SUMMARY:LIVE “Safety Managers’ Safety Meeting”
DESCRIPTION:
URL:https://www.gawda.org/event/live-safety-managers-safety-meeting/
CATEGORIES:GAWDA
ATTACH;FMTTYPE=image/jpeg:https://www.gawda.org/wp-content/uploads/2020/09/gawdahiresmaller.jpg
END:VEVENT
BEGIN:VEVENT
DTSTART;TZID=America/New_York:20241120T150000
DTEND;TZID=America/New_York:20241120T160000
DTSTAMP:20260421T142001
CREATED:20240315T182544Z
LAST-MODIFIED:20240315T182544Z
UID:11120-1732114800-1732118400@www.gawda.org
SUMMARY:GAWDA and AEA - UID Year-Round: "Economic & Labor Update for 2025"
DESCRIPTION:
URL:https://www.gawda.org/event/gawda-and-aea-uid-year-round-economic-labor-update-for-2025/
CATEGORIES:AEA,GAWDA
ATTACH;FMTTYPE=image/jpeg:https://www.gawda.org/wp-content/uploads/2021/11/gawda_aea_logos-1-e1638296770121.jpg
END:VEVENT
END:VCALENDAR