BEGIN:VCALENDAR
VERSION:2.0
PRODID:-//GAWDA - ECPv6.15.20//NONSGML v1.0//EN
CALSCALE:GREGORIAN
METHOD:PUBLISH
X-WR-CALNAME:GAWDA
X-ORIGINAL-URL:https://www.gawda.org
X-WR-CALDESC:Events for GAWDA
REFRESH-INTERVAL;VALUE=DURATION:PT1H
X-Robots-Tag:noindex
X-PUBLISHED-TTL:PT1H
BEGIN:VTIMEZONE
TZID:America/New_York
BEGIN:DAYLIGHT
TZOFFSETFROM:-0500
TZOFFSETTO:-0400
TZNAME:EDT
DTSTART:20230312T070000
END:DAYLIGHT
BEGIN:STANDARD
TZOFFSETFROM:-0400
TZOFFSETTO:-0500
TZNAME:EST
DTSTART:20231105T060000
END:STANDARD
BEGIN:DAYLIGHT
TZOFFSETFROM:-0500
TZOFFSETTO:-0400
TZNAME:EDT
DTSTART:20240310T070000
END:DAYLIGHT
BEGIN:STANDARD
TZOFFSETFROM:-0400
TZOFFSETTO:-0500
TZNAME:EST
DTSTART:20241103T060000
END:STANDARD
BEGIN:DAYLIGHT
TZOFFSETFROM:-0500
TZOFFSETTO:-0400
TZNAME:EDT
DTSTART:20250309T070000
END:DAYLIGHT
BEGIN:STANDARD
TZOFFSETFROM:-0400
TZOFFSETTO:-0500
TZNAME:EST
DTSTART:20251102T060000
END:STANDARD
END:VTIMEZONE
BEGIN:VEVENT
DTSTART;VALUE=DATE:20240806
DTEND;VALUE=DATE:20240816
DTSTAMP:20260420T062801
CREATED:20231109T135449Z
LAST-MODIFIED:20240612T180157Z
UID:10644-1722902400-1723766399@www.gawda.org
SUMMARY:2024 Young and Emerging Professionals Summit
DESCRIPTION:
URL:https://www.gawda.org/event/2024-young-and-emerging-professionals-summit/
LOCATION:Virtual
CATEGORIES:CGA,GAWDA
ATTACH;FMTTYPE=image/jpeg:https://www.gawda.org/wp-content/uploads/2022/05/gawda_cga-e1701872969946.jpg
END:VEVENT
BEGIN:VEVENT
DTSTART;VALUE=DATE:20240813
DTEND;VALUE=DATE:20240815
DTSTAMP:20260420T062801
CREATED:20231016T164421Z
LAST-MODIFIED:20240516T182247Z
UID:10570-1723507200-1723679999@www.gawda.org
SUMMARY:GAWDA Northeast Regional Meeting - Galloway\, NJ
DESCRIPTION:
URL:https://www.gawda.org/event/gawda-northeast-regional-meeting-atlantic-city-nj/
CATEGORIES:GAWDA
ATTACH;FMTTYPE=image/jpeg:https://www.gawda.org/wp-content/uploads/2020/09/gawdahiresmaller.jpg
END:VEVENT
BEGIN:VEVENT
DTSTART;TZID=America/New_York:20240822T113000
DTEND;TZID=America/New_York:20240822T123000
DTSTAMP:20260420T062801
CREATED:20240813T204639Z
LAST-MODIFIED:20240813T204639Z
UID:11433-1724326200-1724329800@www.gawda.org
SUMMARY:GAWDA's ACE DRIVER TRAINING PROGRAM - Launch
DESCRIPTION:
URL:https://www.gawda.org/event/gawdas-ace-driver-training-program-launch/
LOCATION:Virtual
CATEGORIES:GAWDA
ATTACH;FMTTYPE=image/png:https://www.gawda.org/wp-content/uploads/2024/08/ACE-Logo_Secondary_Transparent-e1723581960903.png
END:VEVENT
BEGIN:VEVENT
DTSTART;TZID=America/New_York:20240828T130000
DTEND;TZID=America/New_York:20240828T140000
DTSTAMP:20260420T062801
CREATED:20240813T204243Z
LAST-MODIFIED:20240813T204850Z
UID:11431-1724850000-1724853600@www.gawda.org
SUMMARY:GAWDA LIVE Monthly Safety Managers' Safety Meeting
DESCRIPTION:
URL:https://www.gawda.org/event/gawda-live-monthly-safety-managers-safety-meeting-2/
LOCATION:Virtual
CATEGORIES:GAWDA
ATTACH;FMTTYPE=image/png:https://www.gawda.org/wp-content/uploads/2017/08/gawda-logo-small.png
END:VEVENT
END:VCALENDAR