BEGIN:VCALENDAR
VERSION:2.0
PRODID:-//GAWDA - ECPv6.15.20//NONSGML v1.0//EN
CALSCALE:GREGORIAN
METHOD:PUBLISH
X-ORIGINAL-URL:https://www.gawda.org
X-WR-CALDESC:Events for GAWDA
REFRESH-INTERVAL;VALUE=DURATION:PT1H
X-Robots-Tag:noindex
X-PUBLISHED-TTL:PT1H
BEGIN:VTIMEZONE
TZID:America/New_York
BEGIN:DAYLIGHT
TZOFFSETFROM:-0500
TZOFFSETTO:-0400
TZNAME:EDT
DTSTART:20230312T070000
END:DAYLIGHT
BEGIN:STANDARD
TZOFFSETFROM:-0400
TZOFFSETTO:-0500
TZNAME:EST
DTSTART:20231105T060000
END:STANDARD
BEGIN:DAYLIGHT
TZOFFSETFROM:-0500
TZOFFSETTO:-0400
TZNAME:EDT
DTSTART:20240310T070000
END:DAYLIGHT
BEGIN:STANDARD
TZOFFSETFROM:-0400
TZOFFSETTO:-0500
TZNAME:EST
DTSTART:20241103T060000
END:STANDARD
BEGIN:DAYLIGHT
TZOFFSETFROM:-0500
TZOFFSETTO:-0400
TZNAME:EDT
DTSTART:20250309T070000
END:DAYLIGHT
BEGIN:STANDARD
TZOFFSETFROM:-0400
TZOFFSETTO:-0500
TZNAME:EST
DTSTART:20251102T060000
END:STANDARD
END:VTIMEZONE
BEGIN:VEVENT
DTSTART;TZID=America/New_York:20240822T113000
DTEND;TZID=America/New_York:20240822T123000
DTSTAMP:20260422T112542
CREATED:20240813T204639Z
LAST-MODIFIED:20240813T204639Z
UID:11433-1724326200-1724329800@www.gawda.org
SUMMARY:GAWDA's ACE DRIVER TRAINING PROGRAM - Launch
DESCRIPTION:
URL:https://www.gawda.org/event/gawdas-ace-driver-training-program-launch/
LOCATION:Virtual
CATEGORIES:GAWDA
ATTACH;FMTTYPE=image/png:https://www.gawda.org/wp-content/uploads/2024/08/ACE-Logo_Secondary_Transparent-e1723581960903.png
END:VEVENT
END:VCALENDAR